BEGIN:VCALENDAR
VERSION:2.0
PRODID:-//DFW Startup Week - ECPv6.15.20//NONSGML v1.0//EN
CALSCALE:GREGORIAN
METHOD:PUBLISH
X-ORIGINAL-URL:https://dfwstartupweek.com
X-WR-CALDESC:Events for DFW Startup Week
REFRESH-INTERVAL;VALUE=DURATION:PT1H
X-Robots-Tag:noindex
X-PUBLISHED-TTL:PT1H
BEGIN:VTIMEZONE
TZID:America/Chicago
BEGIN:DAYLIGHT
TZOFFSETFROM:-0600
TZOFFSETTO:-0500
TZNAME:CDT
DTSTART:20240310T080000
END:DAYLIGHT
BEGIN:STANDARD
TZOFFSETFROM:-0500
TZOFFSETTO:-0600
TZNAME:CST
DTSTART:20241103T070000
END:STANDARD
BEGIN:DAYLIGHT
TZOFFSETFROM:-0600
TZOFFSETTO:-0500
TZNAME:CDT
DTSTART:20250309T080000
END:DAYLIGHT
BEGIN:STANDARD
TZOFFSETFROM:-0500
TZOFFSETTO:-0600
TZNAME:CST
DTSTART:20251102T070000
END:STANDARD
BEGIN:DAYLIGHT
TZOFFSETFROM:-0600
TZOFFSETTO:-0500
TZNAME:CDT
DTSTART:20260308T080000
END:DAYLIGHT
BEGIN:STANDARD
TZOFFSETFROM:-0500
TZOFFSETTO:-0600
TZNAME:CST
DTSTART:20261101T070000
END:STANDARD
END:VTIMEZONE
BEGIN:VEVENT
DTSTART;TZID=America/Chicago:20250805T151500
DTEND;TZID=America/Chicago:20250805T163000
DTSTAMP:20260424T072019
CREATED:20250523T210100Z
LAST-MODIFIED:20250729T174219Z
UID:10198-1754406900-1754411400@dfwstartupweek.com
SUMMARY:Corporate Startup Innovation Summit: Accelerator Pitch Finals
DESCRIPTION:presented by Capital One in partnership with the Dallas Regional Chamber
URL:https://dfwstartupweek.com/event/corporate-startup-innovation-summit-3/
LOCATION:Southern Methodist University\, 6214 Bishop Boulevard 7527\, Dallas
CATEGORIES:Corporate Startup Innovation Summit
END:VEVENT
BEGIN:VEVENT
DTSTART;TZID=America/Chicago:20250805T140000
DTEND;TZID=America/Chicago:20250805T151500
DTSTAMP:20260424T072019
CREATED:20250523T205945Z
LAST-MODIFIED:20250731T230622Z
UID:10196-1754402400-1754406900@dfwstartupweek.com
SUMMARY:Corporate Startup Innovation Summit: Keynote: Bring Impossible Ideas to Life
DESCRIPTION:presented by Capital One in partnership with the Dallas Regional Chamber introduction with Jared Jorden  \n\n\n\nKeynote Speaker: Chris Barton\, Founder of Shazam \n\n\n\nLocation: Crum Auditorium
URL:https://dfwstartupweek.com/event/corporate-startup-innovation-summit-2/
LOCATION:Southern Methodist University\, 6214 Bishop Boulevard 7527\, Dallas
CATEGORIES:Corporate Startup Innovation Summit,Keynote
END:VEVENT
BEGIN:VEVENT
DTSTART;TZID=America/Chicago:20250805T130000
DTEND;TZID=America/Chicago:20250805T140000
DTSTAMP:20260424T072019
CREATED:20250523T211948Z
LAST-MODIFIED:20250731T234238Z
UID:10223-1754398800-1754402400@dfwstartupweek.com
SUMMARY:SMU Entrepreneurship Showcase: Entrepreneurship at SMU
DESCRIPTION:Great leaders build great businesses. The Entrepreneurial Leadership Track\, presented by SMU Cox Spears Institute for Entrepreneurial Leadership\, is designed to help founders\, executives\, and business owners develop the skills needed to lead with confidence. Gain insights from experienced leaders\, learn strategies to navigate challenges\, and discover how strong leadership can drive startup success. Join us to elevate your entrepreneurial journey! \n\n\n\nSpeakers: Josh Taylor\, Emily Choi\, Bhavana Kumar\, James Loomstein \n\n\n\nLocation: Classroom 0154
URL:https://dfwstartupweek.com/event/smu-entrepreneurship-showcase-3/
LOCATION:Southern Methodist University\, 6214 Bishop Boulevard 7527\, Dallas
CATEGORIES:SMU Entrepreneurship Showcase
END:VEVENT
BEGIN:VEVENT
DTSTART;TZID=America/Chicago:20250805T130000
DTEND;TZID=America/Chicago:20250805T140000
DTSTAMP:20260424T072019
CREATED:20250523T211453Z
LAST-MODIFIED:20250718T195628Z
UID:10217-1754398800-1754402400@dfwstartupweek.com
SUMMARY:Unlocking Capital Access: How the DCCA Prepares You to Secure the Bag
DESCRIPTION:Capital Access Track Presented by Dallas Collaborative for Capital Access. \n\n\n\nSpeakers: Moderator: Mikki Moss (Harmony Bank)\, Panelist: Tassjania Lozano (DreamSpring)\, Panelist: Tracy Irby (TWU Center for Women Entrepreneurs)\, Panelist: Cortney Beauregard (DAC)\, Panelist: TBD (Entrepreneur from Big Idea) \n\n\n\nLocation: Classroom 0312
URL:https://dfwstartupweek.com/event/unlocking-capital-access-how-the-dcca-prepares-you-to-secure-the-bag/
LOCATION:Southern Methodist University\, 6214 Bishop Boulevard 7527\, Dallas
CATEGORIES:Capital Access Track
END:VEVENT
BEGIN:VEVENT
DTSTART;TZID=America/Chicago:20250805T113000
DTEND;TZID=America/Chicago:20250805T123000
DTSTAMP:20260424T072019
CREATED:20250523T215354Z
LAST-MODIFIED:20250723T203958Z
UID:10242-1754393400-1754397000@dfwstartupweek.com
SUMMARY:SMU Entrepreneurship Showcase: Is it really a good idea? How to Kill Bad Ideas Fast
DESCRIPTION:Great leaders build great businesses. The Entrepreneurial Leadership Track\, presented by SMU Cox Spears Institute for Entrepreneurial Leadership\, is designed to help founders\, executives\, and business owners develop the skills needed to lead with confidence. Gain insights from experienced leaders\, learn strategies to navigate challenges\, and discover how strong leadership can drive startup success. Join us to elevate your entrepreneurial journey! \n\n\n\nSpeakers: Yoram Soloman \n\n\n\nLocation: Classroom 0154
URL:https://dfwstartupweek.com/event/10242/
LOCATION:Southern Methodist University\, 6214 Bishop Boulevard 7527\, Dallas
CATEGORIES:SMU Entrepreneurship Showcase
END:VEVENT
BEGIN:VEVENT
DTSTART;TZID=America/Chicago:20250805T113000
DTEND;TZID=America/Chicago:20250805T123000
DTSTAMP:20260424T072019
CREATED:20250523T211345Z
LAST-MODIFIED:20250718T195545Z
UID:10215-1754393400-1754397000@dfwstartupweek.com
SUMMARY:Demystifying CDFIs: What They Are and How They Can Help You Grow
DESCRIPTION:Capital Access Track Presented by Dallas Collaborative for Capital Access. \n\n\n\nSpeakers: Moderator: Marisol Ashford(Comerica)\, Panelist: Tassjania Lozano (DreamSpring)\, Panelist: ShaRhonda Hill (TruFund)\, Panelist: Nichol Solis (PeopleFund)\, Panelist: Jennifer Dale (LiftFund) \n\n\n\nLocation: Classroom 0312
URL:https://dfwstartupweek.com/event/demystifying-cdfis-what-they-are-and-how-they-can-help-you-grow/
LOCATION:Southern Methodist University\, 6214 Bishop Boulevard 7527\, Dallas
CATEGORIES:Capital Access Track
END:VEVENT
BEGIN:VEVENT
DTSTART;TZID=America/Chicago:20250805T110000
DTEND;TZID=America/Chicago:20250805T123000
DTSTAMP:20260424T072019
CREATED:20250523T210620Z
LAST-MODIFIED:20250731T234102Z
UID:10206-1754391600-1754397000@dfwstartupweek.com
SUMMARY:Mentorship & Startup Awards
DESCRIPTION:Celebrate the power of guidance and grit at the Mentorship & Startup Awards! This special event honors the mentors who make a difference and the startups that are making waves in North Texas. Join us as we recognize standout leaders\, innovative founders\, and impactful mentors who are driving the entrepreneurial ecosystem forward. It’s a night of inspiration\, celebration\, and connection you won’t want to miss! \n\n\n\nSpeakers: Bob Sifferman\, Cameron Cushman\, Eric Weynand\, Jorge Corral\, Tyrus Sanders moderated by Gary Kusin \n\n\n\nLocation: Crum Auditorium
URL:https://dfwstartupweek.com/event/mentorship-startup-awards/
LOCATION:Southern Methodist University\, 6214 Bishop Boulevard 7527\, Dallas
CATEGORIES:Special Event
END:VEVENT
BEGIN:VEVENT
DTSTART;TZID=America/Chicago:20250805T100000
DTEND;TZID=America/Chicago:20250805T110000
DTSTAMP:20260424T072019
CREATED:20250523T211703Z
LAST-MODIFIED:20250731T233753Z
UID:10219-1754388000-1754391600@dfwstartupweek.com
SUMMARY:SMU Entrepreneurship Showcase: Spears LAUNCH Accelerator Founder session
DESCRIPTION:Great leaders build great businesses. The Entrepreneurial Leadership Track\, presented by SMU Cox Spears Institute for Entrepreneurial Leadership\, is designed to help founders\, executives\, and business owners develop the skills needed to lead with confidence. Gain insights from experienced leaders\, learn strategies to navigate challenges\, and discover how strong leadership can drive startup success. Join us to elevate your entrepreneurial journey! \n\n\n\nSpeakers: Josh Taylor\, Bhavana Kumar \n\n\n\nLocation: Classroom 0154
URL:https://dfwstartupweek.com/event/smu-entrepreneurship-showcase/
LOCATION:Southern Methodist University\, 6214 Bishop Boulevard 7527\, Dallas
CATEGORIES:SMU Entrepreneurship Showcase
END:VEVENT
BEGIN:VEVENT
DTSTART;TZID=America/Chicago:20250805T100000
DTEND;TZID=America/Chicago:20250805T110000
DTSTAMP:20260424T072019
CREATED:20250523T211105Z
LAST-MODIFIED:20250723T203902Z
UID:10212-1754388000-1754391600@dfwstartupweek.com
SUMMARY:Capital Access Track: Bankable: Breaking Down the Traditional Lending Process
DESCRIPTION:Capital Access Track Presented by Dallas Collaborative for Capital Access. \n\n\n\nSpeakers: Moderator: Keisha Allen\, Panelist: Angel DeLeon (Texas Bank)\, Panelist: Mack Davis (Bank OZK)\, Panelist: Larsha Thomas (SouthState Bank) Panelist: Cory Gillapsie (Truist) \n\n\n\nLocation: Classroom 0312
URL:https://dfwstartupweek.com/event/the-funding-formula-building-business-credit-and-becoming-loan-ready/
LOCATION:Southern Methodist University\, 6214 Bishop Boulevard 7527\, Dallas
CATEGORIES:Capital Access Track
END:VEVENT
BEGIN:VEVENT
DTSTART;TZID=America/Chicago:20250805T083000
DTEND;TZID=America/Chicago:20250805T100000
DTSTAMP:20260424T072019
CREATED:20250723T204609Z
LAST-MODIFIED:20250723T204610Z
UID:10528-1754382600-1754388000@dfwstartupweek.com
SUMMARY:Community Event: Spotlight on Fintech: Breakfast with MassChallenge
DESCRIPTION:Register here
URL:https://dfwstartupweek.com/event/community-event-spotlight-on-fintech-breakfast-with-masschallenge/
LOCATION:Southern Methodist University\, 6214 Bishop Boulevard 7527\, Dallas
CATEGORIES:Community Event
ATTACH;FMTTYPE=image/png:https://dfwstartupweek.com/wp-content/uploads/2025/07/Spotlight-on-Fintech-MassChallenge.png
END:VEVENT
BEGIN:VEVENT
DTSTART;TZID=America/Chicago:20250805T070000
DTEND;TZID=America/Chicago:20250805T100000
DTSTAMP:20260424T072019
CREATED:20250523T210806Z
LAST-MODIFIED:20250723T204705Z
UID:10208-1754377200-1754388000@dfwstartupweek.com
SUMMARY:Community Event: Coffee & Co-Innovation UTD Catalyst
DESCRIPTION:North Texans: start each morning with a cup of coffee\, breakfast treat\, and a meeting with leaders of top Angel Investor groups from North Texas and the state during DFW Startup Week. Mon through Thu\, Aug 4-7\, Coffee at 7am. Meetings 8-10am\, daily! UT Dallas at the Richardson IQ\, 1302 E. Collins Blvd.\, Richardson\, Texas 75081. For more information\, contact steveg@utdallas.edu. \n\n\n\nTuesday\, Aug 5TiE Dallas Angels\, Sunny BanerjeaDivInv\, Preston James \n\n\n\nSunny Banerjea is president of TiE Dallas Angels\, and highly successful former tech executive and founder. TiE Dallas Angels believes funding and growing a business to help entrepreneurs succeed should be easy. It pools resources to bring together some of the finest investors in the DFW area\, including serial entrepreneurs\, high tech executives\, and other professional investors from Texas and\, in some cases\, from the rest of US. The goal is to turn its members’ passion for business into investments and mentorship to help the next generation of startup companies succeed. More at: https://www.tiedallasangels.com/ \n\n\n\nPreston James\, CEO and cofounder\, DivInc. DivInc is driving economic mobility and inclusive innovation by building a thriving pipeline of high-growth startups led by underestimated founders. Through a proven approach that removes systemic barriers to entrepreneurship\, DivInc connects founders with critical capital\, education\, mentorship\, and networks. Its programs—spanning startup accelerators\, ecosystem events\, and community-based initiatives—help unlock untapped economic potential across Texas and beyond. Learn more: https://www.divinc.org/hello
URL:https://dfwstartupweek.com/event/community-event-coffee-co-innovation-utd-catalyst-2/
LOCATION:UTD @ The Richardson IQ\, 1302 E Collins Blvd\, Richardson\, Texas\, 75081\, United States
CATEGORIES:Community Event
END:VEVENT
BEGIN:VEVENT
DTSTART;TZID=America/Chicago:20250804T190000
DTEND;TZID=America/Chicago:20250804T210000
DTSTAMP:20260424T072019
CREATED:20250523T204839Z
LAST-MODIFIED:20250523T215238Z
UID:10184-1754334000-1754341200@dfwstartupweek.com
SUMMARY:Startup Alley Expo + Happy Hour
DESCRIPTION:Wrap up an inspiring day at DFW Startup Week with the Startup Ally Expo & Happy Hour! This dynamic event brings together startups\, founders\, corporate partners\, community builders\, and innovation leaders for an evening of connection and celebration. Explore a showcase of local startups and resource providers while networking with fellow entrepreneurs over drinks and light bites. Whether you’re looking to spark new partnerships\, discover innovative solutions\, or just unwind with the startup community\, this is the place to be. Don’t miss it!
URL:https://dfwstartupweek.com/event/startup-alley-expo-happy-hour/
LOCATION:Southern Methodist University\, 6214 Bishop Boulevard 7527\, Dallas
CATEGORIES:Networking Event,Special Event
END:VEVENT
BEGIN:VEVENT
DTSTART;TZID=America/Chicago:20250804T180000
DTEND;TZID=America/Chicago:20250804T190000
DTSTAMP:20260424T072019
CREATED:20250718T192313Z
LAST-MODIFIED:20250718T192315Z
UID:10454-1754330400-1754334000@dfwstartupweek.com
SUMMARY:Disrupt Dallas Summit: Social Hour
DESCRIPTION:Disrupt Dallas Summit presented by Charles Schwab Bank\, SSB\, Member FDIC \n\n\n\nLocation: Crum Auditorium
URL:https://dfwstartupweek.com/event/disrupt-dallas-summit-social-hour/
LOCATION:Southern Methodist University\, 6214 Bishop Boulevard 7527\, Dallas
CATEGORIES:Disrupt Dallas Summit
END:VEVENT
BEGIN:VEVENT
DTSTART;TZID=America/Chicago:20250804T170000
DTEND;TZID=America/Chicago:20250804T180000
DTSTAMP:20260424T072019
CREATED:20250523T171833Z
LAST-MODIFIED:20250729T173743Z
UID:10170-1754326800-1754330400@dfwstartupweek.com
SUMMARY:Disrupt Dallas Summit: Keynote
DESCRIPTION:Disrupt Dallas Summit presented by Charles Schwab Bank\, SSB\, Member FDIC \n\n\n\nSpeaker: Cedric Nash moderated by Cleo Greene
URL:https://dfwstartupweek.com/event/disrupt-dallas-summit-keynote/
LOCATION:Southern Methodist University\, 6214 Bishop Boulevard 7527\, Dallas
CATEGORIES:Disrupt Dallas Summit,Keynote
END:VEVENT
BEGIN:VEVENT
DTSTART;TZID=America/Chicago:20250804T164000
DTEND;TZID=America/Chicago:20250804T170000
DTSTAMP:20260424T072019
CREATED:20250523T171718Z
LAST-MODIFIED:20250725T193402Z
UID:10168-1754325600-1754326800@dfwstartupweek.com
SUMMARY:Disrupt Dallas Summit: INTERACTIVE LINE DANCING!
DESCRIPTION:
URL:https://dfwstartupweek.com/event/disrupt-dallas-summit-interactive-line-dancing-social-hour/
LOCATION:Southern Methodist University\, 6214 Bishop Boulevard 7527\, Dallas
CATEGORIES:Disrupt Dallas Summit,Networking Event
END:VEVENT
BEGIN:VEVENT
DTSTART;TZID=America/Chicago:20250804T160000
DTEND;TZID=America/Chicago:20250804T164000
DTSTAMP:20260424T072019
CREATED:20250523T171553Z
LAST-MODIFIED:20250724T234731Z
UID:10166-1754323200-1754325600@dfwstartupweek.com
SUMMARY:Disrupt Dallas Summit: Fireside Chat: Content Marketing\, Content Creating\, How to Grow Your Business
DESCRIPTION:Disrupt Dallas Summit presented by Charles Schwab Bank\, SSB\, Member FDIC \n\n\n\nSpeakers: Kayla McDowell\, Asia Wright\, Benny Kounlavouth moderated by Zorric Sia \n\n\n\nLocation: Crum Auditorium
URL:https://dfwstartupweek.com/event/disrupt-dallas-summit-4/
LOCATION:Southern Methodist University\, 6214 Bishop Boulevard 7527\, Dallas
CATEGORIES:Disrupt Dallas Summit
END:VEVENT
BEGIN:VEVENT
DTSTART;TZID=America/Chicago:20250804T151500
DTEND;TZID=America/Chicago:20250804T155500
DTSTAMP:20260424T072019
CREATED:20250523T171504Z
LAST-MODIFIED:20250724T234359Z
UID:10164-1754320500-1754322900@dfwstartupweek.com
SUMMARY:Disrupt Dallas Summit: Secure the Bag\, Protect Your Peace: A Wealth and Wellness Conversation
DESCRIPTION:Disrupt Dallas Summit presented by Charles Schwab Bank\, SSB\, Member FDIC \n\n\n\nSpeakers: Dr. JuNene\, Honorable Karen Cherry-Brown moderated by Kala Garner \n\n\n\nLocation: Crum Auditorium
URL:https://dfwstartupweek.com/event/disrupt-dallas-summit-3/
LOCATION:Southern Methodist University\, 6214 Bishop Boulevard 7527\, Dallas
CATEGORIES:Disrupt Dallas Summit
END:VEVENT
BEGIN:VEVENT
DTSTART;TZID=America/Chicago:20250804T141500
DTEND;TZID=America/Chicago:20250804T151000
DTSTAMP:20260424T072019
CREATED:20250523T171412Z
LAST-MODIFIED:20250724T234244Z
UID:10161-1754316900-1754320200@dfwstartupweek.com
SUMMARY:Disrupt Dallas Summit: A Legacy of Impact: Black & Hispanic Chambers Shaping the Next Century
DESCRIPTION:Disrupt Dallas Summit presented by Charles Schwab Bank\, SSB\, Member FDIC \n\n\n\nSpeakers: Amanda Moreno-Lake\, Harrison Blair\, Gilberto Atayde moderated by Cortney Beauregard \n\n\n\nLocation: Crum Auditorium
URL:https://dfwstartupweek.com/event/disrupt-dallas-summit/
LOCATION:Southern Methodist University\, 6214 Bishop Boulevard 7527\, Dallas
CATEGORIES:Disrupt Dallas Summit
END:VEVENT
BEGIN:VEVENT
DTSTART;TZID=America/Chicago:20250804T130000
DTEND;TZID=America/Chicago:20250804T140000
DTSTAMP:20260424T072019
CREATED:20250718T185501Z
LAST-MODIFIED:20250731T233403Z
UID:10442-1754312400-1754316000@dfwstartupweek.com
SUMMARY:Ai Track: Beyond the Buzzwords: Decoding Agents and Workflows
DESCRIPTION:Ai Track presented by Worlds From applied AI\, the LLM revolution\, and now the Agentic Era\, how is the current state different from traditional workflows or from the smart software we’ve always built? In this session\, hear from some of the top practitioners in the DFW community as they unpack the evolving vocabulary and design patterns shaping today’s AI systems — from instruction-tuned models to agent toolkits and prompt engineering. Whether you’re a founder\, a student\, or an enterprise innovator\, join us to debate what’s hype\, what’s real\, and what’s next in building intelligent\, autonomous systems that move beyond static scripts to dynamic reasoning.   \n\n\n\nSpeakers: Jake Umbrage\, Ryan Hilliard\, Ross Bates\, Bhaskar Lokanathan \n\n\n\nLocation: Classroom 0312
URL:https://dfwstartupweek.com/event/ai-track-behind-the-curtain-technical-deep-dive-on-physical-ai/
LOCATION:Southern Methodist University\, 6214 Bishop Boulevard 7527\, Dallas
CATEGORIES:AI, Automation, & Quantum Track
END:VEVENT
BEGIN:VEVENT
DTSTART;TZID=America/Chicago:20250804T113000
DTEND;TZID=America/Chicago:20250804T123000
DTSTAMP:20260424T072019
CREATED:20250718T185350Z
LAST-MODIFIED:20250731T233457Z
UID:10440-1754307000-1754310600@dfwstartupweek.com
SUMMARY:Ai Track: AI to ROI: Turning Innovation into Impact
DESCRIPTION:Ai Track Presented by Worlds\, AI is everywhere but turning innovation into real\, repeatable ROI is where most companies stumble. This candid panel brings together leaders from startups\, enterprises\, and top consultancies to break down what it really takes to move AI from pilot projects to impactful programs. Whether you’re a startup founder trying to land and expand with enterprise clients\, or an enterprise leader looking to cut through the hype and make AI stick\, you’ll walk away with practical insights\, tough lessons\, and fresh strategies for building partnerships that deliver real value\, not just another proof of concept.  \n\n\n\nSpeakers: Garrett Long\, Jason Beavers \, Kevin Kleist\, Dave Copps\, Bhaskar Lokanathan \n\n\n\nLocation: Classroom 0312
URL:https://dfwstartupweek.com/event/ai-track-from-ai-to-roi-unlocking-value-in-the-real-world/
LOCATION:Southern Methodist University\, 6214 Bishop Boulevard 7527\, Dallas
CATEGORIES:AI, Automation, & Quantum Track
END:VEVENT
BEGIN:VEVENT
DTSTART;TZID=America/Chicago:20250804T110000
DTEND;TZID=America/Chicago:20250804T123000
DTSTAMP:20260424T072019
CREATED:20250523T205005Z
LAST-MODIFIED:20250724T234014Z
UID:10186-1754305200-1754310600@dfwstartupweek.com
SUMMARY:Texas Capital Fueling Texas-Sized Ambition for Texas-Based Small Businesses
DESCRIPTION:Join Texas Capital for an empowering session designed to help small business owners across Texas access the capital they need to grow with confidence. We’ll spotlight the Small Business Pathway and Pathway Plus Loan Programs\, offering flexible funding from $15\,000 to $250\,000—no SBA backing required. \n\n\n\nWhether you’re expanding operations\, investing in equipment\, or strengthening working capital\, this session will cover: \n\n\n\nThe benefits of our streamlined online application and digital loan closing processKey eligibility requirements\, including credit score and business historyHow in-market expertise and personalized support can accelerate business growthHow businesses can manage their cash flow\, streamline operations\, and enhance financial control through a suite of tailored services \n\n\n\nWho should attend: Texas-based small business owners\, entrepreneurs\, and community partners interested in accessing capital and scaling their ventures. \n\n\n\nLet Texas Capital help turn bold ideas into lasting impact—because big dreams deserve big support. \n\n\n\nSpeakers: Keith Dean\, Director\, Small Business Development Officer; Shannon Moore\, Director\, Regional Retail Manager moderated by Stephanie Bowers\, Director of Corporate Responsibility \n\n\n\nLocation: Crum Auditorium
URL:https://dfwstartupweek.com/event/texas-capital-special-event/
CATEGORIES:Special Event
END:VEVENT
BEGIN:VEVENT
DTSTART;TZID=America/Chicago:20250804T100000
DTEND;TZID=America/Chicago:20250804T110000
DTSTAMP:20260424T072019
CREATED:20250718T185225Z
LAST-MODIFIED:20250729T173306Z
UID:10438-1754301600-1754305200@dfwstartupweek.com
SUMMARY:Ai Track: The Shift to Physical AI: AI’s Real-World Awakening
DESCRIPTION:AI Presented by: WorldsSpeakers: Dave Copps\, CEO & Co-Founder \n\n\n\nLocation: Classroom 0312
URL:https://dfwstartupweek.com/event/ai-track-the-physical-ai-shift-intelligence-built-for-the-real-world/
LOCATION:Southern Methodist University\, 6214 Bishop Boulevard 7527\, Dallas
CATEGORIES:AI, Automation, & Quantum Track
END:VEVENT
BEGIN:VEVENT
DTSTART;TZID=America/Chicago:20250804T093000
DTEND;TZID=America/Chicago:20250804T100000
DTSTAMP:20260424T072019
CREATED:20250718T184844Z
LAST-MODIFIED:20250718T185640Z
UID:10436-1754299800-1754301600@dfwstartupweek.com
SUMMARY:Welcome to SMU from Todd Milbourn\, the New Dean SMU Cox School of Business
DESCRIPTION:More Information can be found here! \n\n\n\nLocation: Crum Auditorium
URL:https://dfwstartupweek.com/event/welcome-to-smu-from-todd-milbourn-the-new-dean-smu-cox-school-of-business/
LOCATION:Southern Methodist University\, 6214 Bishop Boulevard 7527\, Dallas
CATEGORIES:Special Event
END:VEVENT
BEGIN:VEVENT
DTSTART;TZID=America/Chicago:20250804T090000
DTEND;TZID=America/Chicago:20250804T100000
DTSTAMP:20260424T072019
CREATED:20250523T205616Z
LAST-MODIFIED:20250523T214032Z
UID:10194-1754298000-1754301600@dfwstartupweek.com
SUMMARY:Community Event: Customer Discovery with LLM Value Mapping
DESCRIPTION:Virtual Only \n\n\n\nRegister for this event here!
URL:https://dfwstartupweek.com/event/community-event-customer-discovery-with-llm-value-mapping/
LOCATION:Virtual Event\, Dallas\, 75034
CATEGORIES:Community Event
END:VEVENT
BEGIN:VEVENT
DTSTART;TZID=America/Chicago:20250804T070000
DTEND;TZID=America/Chicago:20250804T100000
DTSTAMP:20260424T072019
CREATED:20250523T205447Z
LAST-MODIFIED:20250729T173850Z
UID:10190-1754290800-1754301600@dfwstartupweek.com
SUMMARY:Community Event: Coffee & Co-Innovation UTD Catalyst
DESCRIPTION:North Texans: start each morning with a cup of coffee\, breakfast treat\, and a meeting with leaders of top Angel Investor groups from North Texas and the state during Dallas Startup Week. Mon through Thu\, Aug 4-7\, Coffee at 7am. Meetings 8-10am\, daily! UT Dallas at the Richardson IQ\, 1302 E. Collins Blvd.\, Richardson\, Texas 75081. For more information\, contact steveg@utdallas.edu. \n\n\n\nMonday\, Aug 4Capital Factory\, Luis MartinezSouthwest Angel Network\, Heather Gilker [tentative] \n\n\n\nLuis Martinez\, senior venture associate with Capital Factory. Luis serves as a startup mentor with Geekdom in San Antonio\, TX; the Pioneer21 Venture Mentoring Program in El Paso\, TX; and globally with MassChallenge and Techstars. Dr. Martinez was previously Director of the Center for Innovation and Entrepreneurship at Trinity University. Through his work in industry\, education\, and now Capital Factory\, Luis has guided 200+ entrepreneurs from early stage to successful exits across a wide range of industries and sectors. Luis got his Bachelor’s degree from Trinity and PhD from Harvard. https://capitalfactory.com/ \n\n\n\nHeather Gilker is the North Texas Chapter Lead of SouthWest Angel Network (or SWAN) where she manages SWAN’s Philanthropic sidecar fund. She is also the founder and principal of Tokalon Advisors LLC. Heather has more than 25 years of experience in investing\, community involvement\, and strategy with a focus on sustainability. Prior to SWAN and Tokalon\, Heather led Fidelity Family Office Services’ development for 8 years in the southwest. Other experience includes roles as an investment firm allocator\, an equity analyst\, and a commercial banker. She is a graduate of the Cox School of Business at SMU. More at: https://swanimpact.org/swan-impact-network-team/
URL:https://dfwstartupweek.com/event/community-event-coffee-co-innovation-utd-catalyst/
LOCATION:UTD @ The Richardson IQ\, 1302 E Collins Blvd\, Richardson\, Texas\, 75081\, United States
CATEGORIES:Community Event
END:VEVENT
BEGIN:VEVENT
DTSTART;TZID=America/Chicago:20250803T160000
DTEND;TZID=America/Chicago:20250803T170000
DTSTAMP:20260424T072019
CREATED:20250606T143157Z
LAST-MODIFIED:20250630T152012Z
UID:10265-1754236800-1754240400@dfwstartupweek.com
SUMMARY:Community Event: Monetize Your Mastery
DESCRIPTION:This is an In Person Event. \n\n\n\n  Please register here!
URL:https://dfwstartupweek.com/event/community-event-monetize-your-mastery/
LOCATION:1201 Evans Ave Fort Worth\, TX 76104\, 1201 Evans Ave\, Fort Worth\, Texas\, 76104
CATEGORIES:Community Event
ATTACH;FMTTYPE=image/png:https://dfwstartupweek.com/wp-content/uploads/2025/06/Monetize-Your-Mastery-1.png
END:VEVENT
BEGIN:VEVENT
DTSTART;TZID=America/Chicago:20250803T140000
DTEND;TZID=America/Chicago:20250803T150000
DTSTAMP:20260424T072019
CREATED:20250606T143359Z
LAST-MODIFIED:20250606T143400Z
UID:10269-1754229600-1754233200@dfwstartupweek.com
SUMMARY:Community Event: A Tool for Market Research: Reference Solutions at Parr Library
DESCRIPTION:This event is IN-PERSON ONLY \n\n\n\nRegistration Link
URL:https://dfwstartupweek.com/event/community-event-a-tool-for-market-research-reference-solutions-at-parr-library/
LOCATION:Plano Public Library\, 6200 Windheaven Pkwy\, Plano\, Texas\, 75093
CATEGORIES:Community Event
END:VEVENT
BEGIN:VEVENT
DTSTART;TZID=America/Chicago:20250803T100000
DTEND;TZID=America/Chicago:20250803T150000
DTSTAMP:20260424T072019
CREATED:20250625T162150Z
LAST-MODIFIED:20250625T162323Z
UID:10344-1754215200-1754233200@dfwstartupweek.com
SUMMARY:Community Event: DFW Book Fair
DESCRIPTION:Register Here
URL:https://dfwstartupweek.com/event/community-event-dfw-book-fair/
LOCATION:The DEC Network @ RedBird\, 3560 W Camp Wisdom RD\, Dallas\, Texas\, 75237
CATEGORIES:Community Event
ATTACH;FMTTYPE=image/png:https://dfwstartupweek.com/wp-content/uploads/2025/06/DFW-Book-Fair.png
END:VEVENT
BEGIN:VEVENT
DTSTART;TZID=America/Chicago:20250731T080000
DTEND;TZID=America/Chicago:20250731T170000
DTSTAMP:20260424T072019
CREATED:20250731T225440Z
LAST-MODIFIED:20250731T225441Z
UID:10871-1753948800-1753981200@dfwstartupweek.com
SUMMARY:Community Event: Empowering Entrepreneurs
DESCRIPTION:Register Here!
URL:https://dfwstartupweek.com/event/community-event-empowering-entrepreneurs/
CATEGORIES:Community Event
ATTACH;FMTTYPE=image/jpeg:https://dfwstartupweek.com/wp-content/uploads/2025/07/Empowering-Entrepreneurs.jpeg
END:VEVENT
END:VCALENDAR