BEGIN:VCALENDAR
VERSION:2.0
PRODID:-//DFW Startup Week - ECPv6.15.20//NONSGML v1.0//EN
CALSCALE:GREGORIAN
METHOD:PUBLISH
X-WR-CALNAME:DFW Startup Week
X-ORIGINAL-URL:https://dfwstartupweek.com
X-WR-CALDESC:Events for DFW Startup Week
REFRESH-INTERVAL;VALUE=DURATION:PT1H
X-Robots-Tag:noindex
X-PUBLISHED-TTL:PT1H
BEGIN:VTIMEZONE
TZID:America/Chicago
BEGIN:DAYLIGHT
TZOFFSETFROM:-0600
TZOFFSETTO:-0500
TZNAME:CDT
DTSTART:20240310T080000
END:DAYLIGHT
BEGIN:STANDARD
TZOFFSETFROM:-0500
TZOFFSETTO:-0600
TZNAME:CST
DTSTART:20241103T070000
END:STANDARD
BEGIN:DAYLIGHT
TZOFFSETFROM:-0600
TZOFFSETTO:-0500
TZNAME:CDT
DTSTART:20250309T080000
END:DAYLIGHT
BEGIN:STANDARD
TZOFFSETFROM:-0500
TZOFFSETTO:-0600
TZNAME:CST
DTSTART:20251102T070000
END:STANDARD
BEGIN:DAYLIGHT
TZOFFSETFROM:-0600
TZOFFSETTO:-0500
TZNAME:CDT
DTSTART:20260308T080000
END:DAYLIGHT
BEGIN:STANDARD
TZOFFSETFROM:-0500
TZOFFSETTO:-0600
TZNAME:CST
DTSTART:20261101T070000
END:STANDARD
END:VTIMEZONE
BEGIN:VEVENT
DTSTART;TZID=America/Chicago:20250806T183000
DTEND;TZID=America/Chicago:20250806T203000
DTSTAMP:20260422T052433
CREATED:20250523T212911Z
LAST-MODIFIED:20250523T215019Z
UID:10233-1754505000-1754512200@dfwstartupweek.com
SUMMARY:Women's Marketplace + Happy Hour
DESCRIPTION:To cap off a great Women of Innovation Summit\, it’s time to go shopping! Join to shop from local women-owned businesses\, innovators\, partners\, and more! Join us on Wednesday\, August 6th after the Women of Innovation Summit.
URL:https://dfwstartupweek.com/event/womens-marketplace-happy-hour-2/
LOCATION:Southern Methodist University\, 6214 Bishop Boulevard 7527\, Dallas
CATEGORIES:Networking Event,Special Event
END:VEVENT
BEGIN:VEVENT
DTSTART;TZID=America/Chicago:20250805T174500
DTEND;TZID=America/Chicago:20250805T193000
DTSTAMP:20260422T052433
CREATED:20250606T143850Z
LAST-MODIFIED:20250630T152220Z
UID:10271-1754415900-1754422200@dfwstartupweek.com
SUMMARY:Corporate Startup Innovation Summit Happy Hour
DESCRIPTION:
URL:https://dfwstartupweek.com/event/corporate-startup-innovation-summit-happy-hour/
LOCATION:Southern Methodist University\, 6214 Bishop Boulevard 7527\, Dallas
CATEGORIES:Corporate Startup Innovation Summit,Networking Event
END:VEVENT
BEGIN:VEVENT
DTSTART;TZID=America/Chicago:20250804T190000
DTEND;TZID=America/Chicago:20250804T210000
DTSTAMP:20260422T052433
CREATED:20250523T204839Z
LAST-MODIFIED:20250523T215238Z
UID:10184-1754334000-1754341200@dfwstartupweek.com
SUMMARY:Startup Alley Expo + Happy Hour
DESCRIPTION:Wrap up an inspiring day at DFW Startup Week with the Startup Ally Expo & Happy Hour! This dynamic event brings together startups\, founders\, corporate partners\, community builders\, and innovation leaders for an evening of connection and celebration. Explore a showcase of local startups and resource providers while networking with fellow entrepreneurs over drinks and light bites. Whether you’re looking to spark new partnerships\, discover innovative solutions\, or just unwind with the startup community\, this is the place to be. Don’t miss it!
URL:https://dfwstartupweek.com/event/startup-alley-expo-happy-hour/
LOCATION:Southern Methodist University\, 6214 Bishop Boulevard 7527\, Dallas
CATEGORIES:Networking Event,Special Event
END:VEVENT
BEGIN:VEVENT
DTSTART;TZID=America/Chicago:20250804T164000
DTEND;TZID=America/Chicago:20250804T170000
DTSTAMP:20260422T052433
CREATED:20250523T171718Z
LAST-MODIFIED:20250725T193402Z
UID:10168-1754325600-1754326800@dfwstartupweek.com
SUMMARY:Disrupt Dallas Summit: INTERACTIVE LINE DANCING!
DESCRIPTION:
URL:https://dfwstartupweek.com/event/disrupt-dallas-summit-interactive-line-dancing-social-hour/
LOCATION:Southern Methodist University\, 6214 Bishop Boulevard 7527\, Dallas
CATEGORIES:Disrupt Dallas Summit,Networking Event
END:VEVENT
END:VCALENDAR